BEGIN:VCALENDAR
VERSION:2.0
PRODID:-// - ECPv5.2.1.1//NONSGML v1.0//EN
CALSCALE:GREGORIAN
METHOD:PUBLISH
X-ORIGINAL-URL:https://asvel-volleyball.fr
X-WR-CALDESC:évènements pour 
BEGIN:VTIMEZONE
TZID:Europe/Paris
BEGIN:DAYLIGHT
TZOFFSETFROM:+0100
TZOFFSETTO:+0200
TZNAME:CEST
DTSTART:20180325T010000
END:DAYLIGHT
BEGIN:STANDARD
TZOFFSETFROM:+0200
TZOFFSETTO:+0100
TZNAME:CET
DTSTART:20181028T010000
END:STANDARD
END:VTIMEZONE
BEGIN:VEVENT
DTSTART;TZID=Europe/Paris:20181125T103000
DTEND;TZID=Europe/Paris:20181125T180000
DTSTAMP:20260422T104534
CREATED:20181112T120230Z
LAST-MODIFIED:20220905T072210Z
UID:665-1543141800-1543168800@asvel-volleyball.fr
SUMMARY:Assemblée générale 2018
DESCRIPTION:L’ASVEL Volley-ball se réunit très bientôt pour son Assemblée Générale. Une nouvelle occasion de revenir sur la saison achevée\, mais également de se projeter vers la suivante ! \nLa réunion sera bien sûr suivie d’un repas convivial et du désormais traditionnel tournoi interne de rentrée.
URL:https://asvel-volleyball.fr/event/assemblee-generale-2018/
LOCATION:Gymnase Eugène Fournière\, 21 Place Jules Grandclément\, Villeurbanne\, Auvergne-Rhône-Alpes\, 69100\, France
CATEGORIES:Assemblée générale
END:VEVENT
END:VCALENDAR