BEGIN:VCALENDAR
VERSION:2.0
PRODID:-// - ECPv5.2.1.1//NONSGML v1.0//EN
CALSCALE:GREGORIAN
METHOD:PUBLISH
X-ORIGINAL-URL:https://asvel-volleyball.fr
X-WR-CALDESC:évènements pour 
BEGIN:VTIMEZONE
TZID:Europe/Paris
BEGIN:DAYLIGHT
TZOFFSETFROM:+0100
TZOFFSETTO:+0200
TZNAME:CEST
DTSTART:20170326T010000
END:DAYLIGHT
BEGIN:STANDARD
TZOFFSETFROM:+0200
TZOFFSETTO:+0100
TZNAME:CET
DTSTART:20171029T010000
END:STANDARD
END:VTIMEZONE
BEGIN:VEVENT
DTSTART;TZID=Europe/Paris:20170910T110000
DTEND;TZID=Europe/Paris:20170910T180000
DTSTAMP:20260422T104254
CREATED:20170903T172025Z
LAST-MODIFIED:20170903T172627Z
UID:363-1505041200-1505066400@asvel-volleyball.fr
SUMMARY:Biennale des associations
DESCRIPTION:Cette année encore\, l’ASVEL Omnisports aura son stand à la biennale des associations de Villeurbanne\, organisée le dimanche 10 septembre au pied des Gratte-Ciel. \nToute la journée\, des bénévoles se relaieront pour vous faire découvrir chacune des 11 sections qui composent l’association. Athlétisme\, boule\, football\, hockey\, judo\, lutte\, pelote basque\, rugby\, ski-montagne\, triathlon\, volley-ball … de quoi ravir les amateurs de sport !
URL:https://asvel-volleyball.fr/event/biennale-asso-17/
END:VEVENT
END:VCALENDAR