BEGIN:VCALENDAR
VERSION:2.0
PRODID:-// - ECPv5.2.1.1//NONSGML v1.0//EN
CALSCALE:GREGORIAN
METHOD:PUBLISH
X-ORIGINAL-URL:https://asvel-volleyball.fr
X-WR-CALDESC:évènements pour 
BEGIN:VTIMEZONE
TZID:Europe/Paris
BEGIN:DAYLIGHT
TZOFFSETFROM:+0100
TZOFFSETTO:+0200
TZNAME:CEST
DTSTART:20180325T010000
END:DAYLIGHT
BEGIN:STANDARD
TZOFFSETFROM:+0200
TZOFFSETTO:+0100
TZNAME:CET
DTSTART:20181028T010000
END:STANDARD
END:VTIMEZONE
BEGIN:VEVENT
DTSTART;TZID=Europe/Paris:20180318T100000
DTEND;TZID=Europe/Paris:20180318T180000
DTSTAMP:20260422T121934
CREATED:20180306T144219Z
LAST-MODIFIED:20180306T144432Z
UID:568-1521367200-1521396000@asvel-volleyball.fr
SUMMARY:Les foulées de Villeurbanne
DESCRIPTION:En 2018\, l’ASVEL Omnisports fête ses 70 ans ! Un anniversaire qu’il s’agit de célébrer comme il se doit … \nPour l’occasion\, l’association villeurbannaise souhaite se réunir le 18 mars 2018\, lors des Foulées de Villeurbanne. Les licenciés de ses 11 sections (athlétisme\, boules\, football\, hockey\, judo\, lutte\, pelote basque\, rugby\, ski-montagne\, triathlon\, volley-ball) sont ainsi invités à participer à la course 5 km loisir : un moment de convivialité où l’ensemble du club pourra arborer un maillot commun. \nAlors n’hésitez plus et inscrivez-vous ! Soyons nombreux à défendre nos couleurs …
URL:https://asvel-volleyball.fr/event/les-foulees-de-villeurbanne/
ATTACH;FMTTYPE=image/jpeg:https://asvel-volleyball.fr/wp-content/uploads/2018/03/Foulées-de-Villeurbanne.jpg
ORGANIZER;CN="Office%20du%20sport":MAILTO:sport@osvilleurbanne.com
END:VEVENT
END:VCALENDAR