BEGIN:VCALENDAR
VERSION:2.0
PRODID:-// - ECPv5.2.1.1//NONSGML v1.0//EN
CALSCALE:GREGORIAN
METHOD:PUBLISH
X-ORIGINAL-URL:https://asvel-volleyball.fr
X-WR-CALDESC:évènements pour 
BEGIN:VTIMEZONE
TZID:Europe/Paris
BEGIN:DAYLIGHT
TZOFFSETFROM:+0100
TZOFFSETTO:+0200
TZNAME:CEST
DTSTART:20180325T010000
END:DAYLIGHT
BEGIN:STANDARD
TZOFFSETFROM:+0200
TZOFFSETTO:+0100
TZNAME:CET
DTSTART:20181028T010000
END:STANDARD
END:VTIMEZONE
BEGIN:VEVENT
DTSTART;TZID=Europe/Paris:20180204T090000
DTEND;TZID=Europe/Paris:20180204T190000
DTSTAMP:20260422T104120
CREATED:20180109T123342Z
LAST-MODIFIED:20180109T125542Z
UID:525-1517734800-1517770800@asvel-volleyball.fr
SUMMARY:Tournoi de la Chandeleur 2018
DESCRIPTION:La troisième édition du Tournoi de la Chandeleur approche à grands pas ! \n\nLa formule\n\n2 gymnases : Salle des Gratte-Ciel et gymnase Eugène Fournière\n32 équipes : 4×4 mixte\, avec une fille minimum sur le terrain\n32€ par équipe\n\n\nL’inscription\nLes inscriptions se feront à l’adresse suivante : saber.khelifi@hotmail.fr \n 
URL:https://asvel-volleyball.fr/event/tournoi-chandeleur-2018/
CATEGORIES:Tournoi
END:VEVENT
END:VCALENDAR