BEGIN:VCALENDAR
VERSION:2.0
PRODID:-// - ECPv5.2.1.1//NONSGML v1.0//EN
CALSCALE:GREGORIAN
METHOD:PUBLISH
X-ORIGINAL-URL:https://asvel-volleyball.fr
X-WR-CALDESC:évènements pour 
BEGIN:VTIMEZONE
TZID:Europe/Paris
BEGIN:DAYLIGHT
TZOFFSETFROM:+0100
TZOFFSETTO:+0200
TZNAME:CEST
DTSTART:20190331T010000
END:DAYLIGHT
BEGIN:STANDARD
TZOFFSETFROM:+0200
TZOFFSETTO:+0100
TZNAME:CET
DTSTART:20191027T010000
END:STANDARD
END:VTIMEZONE
BEGIN:VEVENT
DTSTART;TZID=Europe/Paris:20190203T090000
DTEND;TZID=Europe/Paris:20190203T190000
DTSTAMP:20260422T104120
CREATED:20190113T180101Z
LAST-MODIFIED:20190113T180118Z
UID:704-1549184400-1549220400@asvel-volleyball.fr
SUMMARY:Tournoi de la Chandeleur 2019
DESCRIPTION:Puisque volley et crêpes font visiblement bon ménage\, le Tournoi de la Chandeleur revient cette année pour une nouvelle édition !
URL:https://asvel-volleyball.fr/event/tournoi-de-la-chandeleur-2019/
LOCATION:Salle des Gratte-Ciel\, 98 rue Francis de Pressensé\, Villeurbanne\, Auvergne-Rhône-Alpes\, 69100\, France
END:VEVENT
END:VCALENDAR